Workbook
Name GUID.25BC023184BB49A79B892A3E50A80C1C_.23.23.B9.AB.CB.BE.D5.C2.C1.D0.B1.ED.23.23.CF.FA.CA.DB.BA.CF.CD.AC.D5.C2.23.23JPEG.23.230064000400: "A1"
Name Morning: [1]XL4Poppy!$C$39
Name HWSheet: 1
Name Module.Prix_SMC: [2]汇总表!Module.Prix_SMC
Name Prix_SMC: [2]汇总表!Prix_SMC
Name dadq: #N/A
Name 利润率: 6%
Name 制安费: 84
Name 包装、运输费: 10
Name 审核单位: ""
Name 层数高度: ""
Name 工程名称: ""
Name 工程类别: ""
Name 建筑面积: ""
Name 建设单位: ""
Name 管理费、利润: 9%
Name 管理费率: 8%
Name 结构形式: ""
Name 编制人: ""
Name 编制单位: ""
Name 编制日期: ""
Name 设计单位: ""
Name 辅材: 5
Name A: #REF!
Name A2A3外墙: B
Name A2A3阳台: B
Name A2A3零星: B
Name AAAA: #REF!+#REF!+0.1
Name CONT: #REF!
Name C_: #REF!
Name C楼V_A轴立面裙楼: #REF!
Name DATE1: #REF!
Name DD: #REF!
Name DIXI: #REF!
Name Ddd: #REF!
Name EXRMB1: #REF!
Name Excel_BuiltIn__FilterDatabase_6: #REF!
Name H: #REF!
Name INPUT_1: #REF!
Name INPUT_1S: #REF!
Name INPUT_2: #REF!
Name INPUT_2S: #REF!
Name INPUT_2_1S: #REF!
Name INPUT_2_2: #REF!
Name INPUT_2_2S: #REF!
Name INPUT_2_3: #REF!
Name INPUT_2_3S: #REF!
Name INPUT_2_4: #REF!
Name INPUT_2_4S: #REF!
Name INPUT_2_5: #REF!
Name INPUT_2_5S: #REF!
Name INPUT_2_6: #REF!
Name INPUT_2_6S: #REF!
Name INPUT_2_7: #REF!
Name INPUT_2_7S: #REF!
Name INPUT_3: #REF!
Name INPUT_3S: #REF!
Name INPUT_3_1: #REF!
Name INPUT_3_1S: #REF!
Name INPUT_3_2: #REF!

Sheet 汇总表
A1: 大族数控化学实验室工程项目计价汇总表
A2: 序号 | B2: 名称 | C2: 金额 | D2: 备注
A3: =ROW(A3)-ROW($A$2) -> 1 | B3: 装修工程 | C3: =装修工程!H16 -> 0
A4: =ROW(A4)-ROW($A$2) -> 2 | B4: 实验室基础配套设备 | C4: =实验家具!H60 -> 0
A5: =ROW(A5)-ROW($A$2) -> 3 | B5: 给排水工程 | C5: =给排水!H19 -> 0
A6: =ROW(A6)-ROW($A$2) -> 4 | B6: 排风工程 | C6: =排风系统!H32 -> 0
A7: =ROW(A7)-ROW($A$2) -> 5 | B7: 普通空调工程 | C7: =普通空调!H21 -> 0
A8: =ROW(A8)-ROW($A$2) -> 6 | B8: 新风工程 | C8: =新风系统!H25 -> 0
A9: =ROW(A9)-ROW($A$2) -> 7 | B9: 自控工程 | C9: =自控工程!H28 -> 0
A10: =ROW(A10)-ROW($A$2) -> 8 | B10: 强弱电工程 | C10: =强弱电!H42 -> 0
B11: 总计 | C11: =SUM(C3:C9) -> 0

Sheet 装修工程
A1: 分部分项工程量清单计价表
A2: 工程名称：大族数控化学实验室工程项目——装饰装修
A3: 序号 | B3: 项目名称 | C3: 品牌 | D3: 项目特征及描述 | E3: 单位 | F3: 数量 | G3: 综合单价 （9%税率） | H3: 合计 | I3: 备注
B4: 墙身工程
A5: 1 | B5: 50厚彩钢玻镁复合夹芯板轻质隔墙(机制板) | C5: 莱润/泰鹏 | D5: 1.50厚彩钢玻镁复合夹芯板轻质隔墙W:50mm，双面钢板厚度0.426mm； 2.隔墙高度至吊顶，耐火极限≥1.0h 3.做法参国标08J907-P33,连接方式1（企口形），含R50铝合金铝圆弧及铝合金收边做法参08J907-P35-1； 4.含人工辅材； | E5: m² | F5: 173.8044 | H5: =G5*F5 -> 0
B6: 天花工程
A7: 1 | B7: 50厚彩钢玻镁复合夹芯板（上人型吊顶） | C7: 莱润/泰鹏 | D7: 1.50厚彩钢玻镁复合夹芯板（上人型），燃烧性能为A级。 2.做法详08J907-P36 3.其他符合设计要求 | E7: m² | F7: 22 | H7: =G7*F7 -> 0
B8: 门窗工程
A9: 1 | B9: 成品洁净门（M1022） | C9: 林森/易众 | D9: 洞口尺寸：1000X2200 彩钢板专用门（加设闭门器），上带观察窗(安全玻璃，无色透明)，大小详大样图,含不锈钢门锁、门套、门框含人工辅材 | E9: 樘 | F9: 4 | H9: =G9*F9 -> 0
A10: 2 | B10: 成品洁净窗 | D10: 1.5+5mm钢化玻璃，成品透视窗2.规格：2000*1200MM | E10: 樘 | F10: 1 | H10: =G10*F10 -> 0
B11: 其它工程
A12: 1 | B12: 铝合金隔断围挡 | D12: 围挡尺寸：大概长1.5米 宽1米 高2米 | E12: m² | F12: 6 | H12: =G12*F12 -> 0
B13: 项目施工相关费用
A14: 1 | B14: 安全文明施工，脚手架等措施费 | E14: 项 | F14: 1 | H14: =G14*F14 -> 0
A15: 2 | B15: 材料运输、垃圾清理费 （不含保洁） | E15: 项 | F15: 1 | H15: =G15*F15 -> 0
B16: 含税合计 | H16: =SUM(H5:H15) -> 0
A17: 注： | B17: 本预算为含税价格。 不含施工用电用水费用。 水电管线需预留到我方指定位置。 在施工中有本预算未包括的分部分项项目，需双方代表就项目的增减进行签议。

Sheet 实验家具
A1: 分部分项工程量清单计价表
A2: 工程名称：大族数控化学实验室工程项目——实验室基础配套设备
A3: 序号 | B3: 项目名称 | C3: 品牌 | D3: 规格、型号 （单位：mm） | E3: 单位 | F3: 数量 | G3: 综合单价（13%税率） | H3: 合计 | I3: 备注
A4: DIW再纯净化及化学药水站
A5: 1 | B5: 边台 | C5: 赛诺 SUNOLAB | D5: 4900*750*850 | E5: 米 | F5: 4.9 | H5: =F5*G5 -> 0 | I5: 1.全钢落地结构，柜体采用1.0mm厚优质冷轧钢板，表面环氧树脂喷涂，非满柜； 2.台面采用12.7mm厚实芯威盛亚理化板台面，边加厚 3.拉手一体成型
B6: 试剂架 | C6: 赛诺 SUNOLAB | D6: 4000*200*800 | E6: 米 | F6: 4 | H6: =F6*G6 -> 0 | I6: 多功能款，全钢组合式三角形多功能柱，钢制双层层板配磨砂玻璃，带护栏，含插座
B7: 吊柜 | C7: 赛诺 SUNOLAB | D7: 4000*600*300mm | E7: 米 | F7: 4 | H7: =F7*G7 -> 0 | I7: 1.柜体采用1.0mm厚冷轧钢板冲折焊接制作，表面酸洗磷化再经环氧树脂静电粉末喷涂，喷涂厚度≥75μm； 2.门板可做视窗玻璃； 3.带一层活动层板，高度可调；
B8: 三口化验水龙头 | C8: 科恩 TOF | D8: 型号：KA1W | E8: 套 | F8: 1 | H8: =F8*G8 -> 0 | I8: 实验室专用三口化验水龙头，主体为铜质。亚光环氧树脂涂层，耐腐蚀，耐热。鹅颈管可360°旋转。
B9: PP中水槽 | C9: 科恩 TOF | D9: 555*455*310 型号：KP2B | E9: 套 | F9: 1 | H9: =F9*G9 -> 0 | I9: 水槽采用全新PP料及进口色母料，无碳酸钙成分；下水口与水槽一体注塑成型，水槽内壁无缩印，四边平整，水槽壁厚≤5mm；为防止水槽中间或四周有积液，槽体底部有导流线。
B10: 滴水架 | C10: 科恩 TOF | D10: 630*450*120 型号：KD8W | E10: 套 | F10: 1 | H10: =F10*G10 -> 0 | I10: 材质：高密度PP 底部托盘中间设有排水孔 可拆卸式滴水棒，具有锁扣功能，方便使用 滴水棒50根。分别配烧杯、长试剂棒、小试剂棒三种。
B11: 单口洗眼器 | C11: 科恩 TOF | D11: 型号：KC1-1R | E11: 套 | F11: 1 | H11: =F11*G11 -> 0 | I11: 桌上型单口洗眼器 主体：加厚铜质，环氧树脂喷涂 洗眼喷头：加厚铜质加软性橡胶，出水经缓压处理程 泡沫水柱，防止冲上眼睛 防尘盖：PP材质，使用时自动被水冲开
A12: 2 | B12: 边台 | C12: 赛诺 SUNOLAB | D12: 3500*750*850 | E12: 米 | F12: 3.5 | H12: =F12*G12 -> 0 | I12: 1.全钢落地结构，柜体采用1.0mm厚优质冷轧钢板，表面环氧树脂喷涂，非满柜； 2.台面采用12.7mm厚实芯威盛亚理化板台面，边加厚 3.拉手一体成型
B13: 试剂架 | C13: 赛诺 SUNOLAB | D13: 3500*200*800 | E13: 米 | F13: 3.5 | H13: =F13*G13 -> 0 | I13: 多功能款，全钢组合式三角形多功能柱，钢制双层层板配磨砂玻璃，带护栏，含插座
B14: 吊柜 | C14: 赛诺 SUNOLAB | D14: 3500*600*300mm | E14: 米 | F14: 3.5 | H14: =F14*G14 -> 0 | I14: 1.柜体采用1.0mm厚冷轧钢板冲折焊接制作，表面酸洗磷化再经环氧树脂静电粉末喷涂，喷涂厚度≥75μm； 2.门板可做视窗玻璃； 3.带一层活动层板，高度可调；
A15: 3 | B15: 万向排气罩 | C15: 科恩 TOF | D15: 型号：KP8-2 | E15: 套 | F15: 2 | H15: =F15*G15 -> 0 | I15: 1.主体：PP材质； 2.关节：进口PP全新料生产，可360°旋转调节方向，易拆卸、重组及清洗； 3.关节盖：进口PP全新料生产，可拆装，防止气体泄漏增强气密性，减小噪音； 4.关节密封圈：不易老化之高密度橡胶； 5.关节连接杆：304不锈钢； 6.关节松紧旋钮：全铜材质确保螺纹不滑丝，内嵌不锈钢轴承，与关节连接杆锁合； 7.气流调节阀：手动调节外部阀门旋钮，控制进入之气流量； 8.伸缩导管φ75PP管
B16: 万向罩底座 | C16: 定制 | D16: / | E16: 套 | F16: 2 | H16: =F16*G16 -> 0
A17: 4 | B17: 实验凳 | C17: 赛诺 SUNOLAB | D17: 常规 | E17: 张 | F17: 3 | H17: =F17*G17 -> 0 | I17: PU凳面，五星脚架，配气动杆和活动轮
A18: 中控室及电性实验室
A19: 1 | B19: 边台 | C19: 赛诺 SUNOLAB | D19: 5560*750*850 | E19: 米 | F19: 5.56 | H19: =F19*G19 -> 0 | I19: 1.全钢落地结构，柜体采用1.0mm厚优质冷轧钢板，表面环氧树脂喷涂，非满柜； 2.台面采用12.7mm厚实芯威盛亚理化板台面，边加厚 3.拉手一体成型
B20: 试剂架 | C20: 赛诺 SUNOLAB | D20: 5560*200*800 | E20: 米 | F20: 5.56 | H20: =F20*G20 -> 0 | I20: 多功能款，全钢组合式三角形多功能柱，钢制双层层板配磨砂玻璃，带护栏，含插座
B21: 吊柜 | C21: 赛诺 SUNOLAB | D21: 5560*600*300mm | E21: 米 | F21: 5.56 | H21: =F21*G21 -> 0 | I21: 1.柜体采用1.0mm厚冷轧钢板冲折焊接制作，表面酸洗磷化再经环氧树脂静电粉末喷涂，喷涂厚度≥75μm； 2.门板可做视窗玻璃； 3.带一层活动层板，高度可调；
A22: 2 | B22: 边台 | C22: 赛诺 SUNOLAB | D22: 1770*750*850 | E22: 米 | F22: 1.77 | H22: =F22*G22 -> 0 | I22: 1.全钢落地结构，柜体采用1.0mm厚优质冷轧钢板，表面环氧树脂喷涂，非满柜； 2.台面采用12.7mm厚实芯威盛亚理化板台面，边加厚 3.拉手一体成型
B23: 试剂架 | C23: 赛诺 SUNOLAB | D23: 1770*200*800 | E23: 米 | F23: 1.77 | H23: =F23*G23 -> 0 | I23: 多功能款，全钢组合式三角形多功能柱，钢制双层层板配磨砂玻璃，带护栏，含插座
B24: 吊柜 | C24: 赛诺 SUNOLAB | D24: 1770*600*300mm | E24: 米 | F24: 1.77 | H24: =F24*G24 -> 0 | I24: 1.柜体采用1.0mm厚冷轧钢板冲折焊接制作，表面酸洗磷化再经环氧树脂静电粉末喷涂，喷涂厚度≥75μm； 2.门板可做视窗玻璃； 3.带一层活动层板，高度可调；
A25: 3 | B25: 边台 | C25: 赛诺 SUNOLAB | D25: 3000*750*850 | E25: 米 | F25: 3 | H25: =F25*G25 -> 0 | I25: 1.全钢落地结构，柜体采用1.0mm厚优质冷轧钢板，表面环氧树脂喷涂，非满柜； 2.台面采用12.7mm厚实芯威盛亚理化板台面，边加厚 3.拉手一体成型
B26: 试剂架 | C26: 赛诺 SUNOLAB | D26: 3000*200*800 | E26: 米 | F26: 3 | H26: =F26*G26 -> 0 | I26: 多功能款，全钢组合式三角形多功能柱，钢制双层层板配磨砂玻璃，带护栏，含插座
B27: 吊柜 | C27: 赛诺 SUNOLAB | D27: 3000*600*300mm | E27: 米 | F27: 3 | H27: =F27*G27 -> 0 | I27: 1.柜体采用1.0mm厚冷轧钢板冲折焊接制作，表面酸洗磷化再经环氧树脂静电粉末喷涂，喷涂厚度≥75μm； 2.门板可做视窗玻璃； 3.带一层活动层板，高度可调；
A28: 4 | B28: 实验凳 | C28: 赛诺 SUNOLAB | D28: 常规 | E28: 张 | F28: 4 | H28: =F28*G28 -> 0 | I28: PU凳面，五星脚架，配气动杆和活动轮
A29: 物理实验
A30: 1 | B30: 边台 | C30: 赛诺 SUNOLAB | D30: 3000*750*850 | E30: 米 | F30: 3 | H30: =F30*G30 -> 0 | I30: 1.全钢落地结构，柜体采用1.0mm厚优质冷轧钢板，表面环氧树脂喷涂，非满柜； 2.台面采用12.7mm厚实芯威盛亚理化板台面，边加厚 3.拉手一体成型
B31: 钢制插座盒 | C31: 赛诺 SUNOLAB | D31: 86型 | E31: 个 | F31: 6 | H31: =F31*G31 -> 0 | I31: 钢制梯形线盒，开1个86型孔位，含电线及软管
B32: 插座面板 | C32: 施耐德 | D32: 86型 | E32: 个 | F32: 6 | H32: =F32*G32 -> 0 | I32: 220V/10A 5孔插座面板
A33: 2 | B33: 桌上置物架 | C33: 定制 | D33: 3000*450*300mm | E33: 台 | F33: 1 | H33: =F33*G33 -> 0 | I33: 1.柜体采用1.0mm厚冷轧钢板冲折焊接制作，表面酸洗磷化再经环氧树脂静电粉末喷涂，喷涂厚度≥75μm；
A34: 2 | B34: 试剂柜 | C34: 赛诺 SUNOLAB | D34: 900*450*1800 | E34: 台 | F34: 2 | H34: =F34*G34 -> 0 | I34: 1.柜体采用1.0mm厚冷轧钢板冲折焊接制作，表面酸洗磷化再经环氧树脂静电粉末喷涂，喷涂厚度≥75μm； 2.柜门：门板采用1.0mm厚冷轧钢板冲折焊接制作，表面酸洗磷化再经环氧树脂静电粉末喷涂，结构稳定，不变形，门面板内侧设防缓冲减震装置。结构为双层中空加静音材质。 3.上实掩门、上带玻璃视窗 4.高低调整脚：采用M10螺丝压模成型，底衬防水黑色PVC六角套环，保证可以在柜门打开的情况下，进行钢柜体的水平调节。
A35: 4 | B35: 实验凳 | C35: 赛诺 SUNOLAB | D35: 常规 | E35: 张 | F35: 2 | H35: =F35*G35 -> 0 | I35: PU凳面，五星脚架，配气动杆和活动轮
A36: 合成化学实验室
A37: 1 | B37: 边台 | C37: 赛诺 SUNOLAB | D37: 6600*750*850 | E37: 米 | F37: 6.6 | H37: =F37*G37 -> 0 | I37: 1.全钢落地结构，柜体采用1.0mm厚优质冷轧钢板，表面环氧树脂喷涂，非满柜； 2.台面采用12.7mm厚实芯威盛亚理化板台面，边加厚 3.拉手一体成型
B38: 三口化验水龙头 | C38: 科恩 TOF | D38: 型号：KA1W | E38: 套 | F38: 1 | H38: =F38*G38 -> 0 | I38: 实验室专用三口化验水龙头，主体为铜质。亚光环氧树脂涂层，耐腐蚀，耐热。鹅颈管可360°旋转。
B39: PP中水槽 | C39: 科恩 TOF | D39: 555*455*310 型号：KP2B | E39: 套 | F39: 1 | H39: =F39*G39 -> 0 | I39: 水槽采用全新PP料及进口色母料，无碳酸钙成分；下水口与水槽一体注塑成型，水槽内壁无缩印，四边平整，水槽壁厚≤5mm；为防止水槽中间或四周有积液，槽体底部有导流线。
B40: 滴水架 | C40: 科恩 TOF | D40: 630*450*120 型号：KD8W | E40: 套 | F40: 1 | H40: =F40*G40 -> 0 | I40: 材质：高密度PP 底部托盘中间设有排水孔 可拆卸式滴水棒，具有锁扣功能，方便使用 滴水棒50根。分别配烧杯、长试剂棒、小试剂棒三种。
...

Sheet 给排水
A1: 分部分项工程量清单计价表
A2: 工程名称：大族数控化学实验室工程项目——给排水工程
A3: 序号 | B3: 项目名称 | C3: 品牌 | D3: 规格、型号 | E3: 单位 | F3: 数量 | G3: 综合单价 （9%税率） | H3: 合计 | I3: 备注
A4: 一、给水
A5: =ROW(A5)-ROW($A$4) -> 1 | B5: 给水管 | C5: 联塑/日丰 | D5: 1.名称：PP-R给水管 2.规格：DN25 | E5: m | F5: 8 | H5: =F5*G5 -> 0
A6: =ROW(A6)-ROW($A$4) -> 2 | B6: 角阀 | C6: / | D6: 1.名称：角阀 2.规格：DN20 | E6: 个 | F6: 1 | H6: =F6*G6 -> 0
A7: 二、排水
A8: =ROW(A8)-ROW($A$7) -> 1 | B8: 排水管 | C8: 联塑/日丰 | D8: 1.名称：HDPE排水管 2.规格：DN25 | E8: m | F8: 15 | H8: =F8*G8 -> 0
A9: =ROW(A9)-ROW($A$7) -> 2 | B9: 排水管 | C9: 联塑/日丰 | D9: 1.名称：HDPE排水管 2.规格：DN50 | E9: m | F9: 35 | H9: =F9*G9 -> 0
A10: =ROW(A10)-ROW($A$7) -> 3 | B10: 污水提升泵 | D10: 1.名称:污水提升泵 2.扬程：7M 3.功率：400W | E10: 个 | F10: 2 | H10: =F10*G10 -> 0
A11: =ROW(A11)-ROW($A$7) -> 4 | B11: 存水弯 | C11: 联塑/日丰 | D11: 1.名称：存水弯 2.规格：DN50 | E11: 个 | F11: 1 | H11: =F11*G11 -> 0
A12: 三、其他
A13: =ROW(A13)-ROW($A$12) -> 1 | B13: 管路清洗、试压、调试 | D13: 1.管路清洗、试压、调试 2.介质：清水 | E13: 项 | F13: 1 | H13: =F13*G13 -> 0
A14: =ROW(A14)-ROW($A$12) -> 2 | B14: 管道支架 | C14: / | D14: 1.名称:成品管卡&角铁支架 2.备注:含吊杆、螺钉、安装等 | E14: 项 | F14: 1 | H14: =F14*G14 -> 0
A15: =ROW(A15)-ROW($A$12) -> 3 | B15: 辅材配件 | C15: / | D15: 1.辅料名称：三通、弯头、直接、变径、木马 、胶水、螺栓、2.机械费：电焊机、切割机、手电锤、 试压机等 | E15: 项 | F15: 1 | H15: =F15*G15 -> 0
A16: 六、项目施工相关费用
A17: =ROW(A17)-ROW($A$16) -> 1 | B17: 地面排水管埋地管道开挖 | D17: 共30米绿化带开挖，开挖后回填，最深深度300mm 做一个400*400提升水泵设备井（按砖砌考虑） 四周做防水反坎（高出地面10cm左右）井盖按不锈钢考虑，深度500mm | E17: 项 | F17: 1 | H17: =F17*G17 -> 0
A18: =ROW(A18)-ROW($A$16) -> 2 | B18: 安全文明施工、脚手架等措施费 | E18: 项 | F18: 1 | H18: =F18*G18 -> 0
B19: 含税合计 | H19: =SUM(H5:H18) -> 0
A20: 注： | B20: 本预算为含税价格。 不含施工用电用水费用。 水电管线需预留到我方指定位置。 在施工中有本预算未包括的分部分项项目，需双方代表就项目的增减进行签议。

Sheet 排风系统
A1: 分部分项工程量清单计价表
A2: 工程名称：大族数控化学实验室工程项目——排风工程
A3: 序号 | B3: 项目名称 | C3: 品牌 | D3: 规格、型号 | E3: 单位 | F3: 数量 | G3: 综合单价 （9%税率） | H3: 合计 | I3: 备注
A4: 一、排风系统一（氟气单独排风）
A5: 1 | B5: 箱式风机PF-02 | C5: 广菱丰 | D5: 排风量：400CMH 余压：350Pa 风机功率：1.0KW380V 含箱体 含商用氟气吸附剂段 整体耐氟材质 | E5: 台 | F5: 1 | H5: =F5*G5 -> 0
A6: 2 | B6: 通风管道 | C6: 国产优质 | D6: 1.名称：PTFE材质排风管 2.类型：圆形 3.规格：φ160 4.其他：满足设计标准 | E6: m | F6: 32 | H6: =F6*G6 -> 0
A7: 二、排风系统二（理化排风）
A8: 1 | B8: 箱式风机PF-01 | C8: 广菱丰 | D8: 排风量：3000CMH 余压：350Pa 风机功率：2.0KW380V 喊箱体 含活性炭吸附段 | E8: 台 | F8: 1 | H8: =F8*G8 -> 0
A9: 2 | B9: 通风管道 | C9: 熙诚 | D9: 1.名称：PP材质排风管 2.类型：方形 600*600 3.规格：6mm厚 4.其他：满足设计标准 | E9: m | F9: 4 | H9: =F9*G9 -> 0
A10: 3 | B10: 通风管道 | C10: 熙诚 | D10: 1.名称：PP材质排风管 2.类型：圆形 3.规格：φ350 4.其他：满足设计标准 | E10: m | F10: 2 | H10: =F10*G10 -> 0
A11: 4 | B11: 通风管道 | C11: 熙诚 | D11: 1.名称：PP材质排风管 2.类型：圆形 3.规格：φ315 4.其他：满足设计标准 | E11: m | F11: 9 | H11: =F11*G11 -> 0
A12: 5 | B12: 通风管道 | C12: 熙诚 | D12: 1.名称：PP材质排风管 2.类型：圆形 3.规格：φ250 4.其他：满足设计标准 | E12: m | F12: 8 | H12: =F12*G12 -> 0
A13: 6 | B13: 通风管道 | C13: 熙诚 | D13: 1.名称：PP材质排风管 2.类型：圆形 3.规格：φ200 4.其他：满足设计标准 | E13: m | F13: 4 | H13: =F13*G13 -> 0
A14: 7 | B14: 通风管道 | C14: 熙诚 | D14: 1.名称：PP材质排风管 2.类型：圆形 3.规格：φ110 4.其他：满足设计标准 | E14: m | F14: 25 | H14: =F14*G14 -> 0
A15: 8 | B15: 阀门 | C15: 熙诚 | D15: 1.名称：手动风量调节阀 2.规格：φ315 3.材质：PP材质 | E15: 个 | F15: 1 | H15: =F15*G15 -> 0
A16: 9 | B16: 阀门 | C16: 熙诚 | D16: 1.名称：手动风量调节阀 2.规格：φ200 3.材质：PP材质 | E16: 个 | F16: 2 | H16: =F16*G16 -> 0
A17: 10 | B17: 阀门 | C17: 熙诚 | D17: 1.名称：止回阀 2.规格：φ500*400 3.材质：PP材质 | E17: 个 | F17: 1 | H17: =F17*G17 -> 0
A18: 11 | B18: 阀门 | C18: 熙诚 | D18: 1.名称：电动风量调节阀 2.规格：φ250 3.材质：PP材质 4.带电动执行器 | E18: 个 | F18: 1 | H18: =F18*G18 -> 0
A19: 12 | B19: 阀门 | C19: 熙诚 | D19: 1.名称：电动风量调节阀 2.规格：φ200 3.材质：PP材质 4.带电动执行器 | E19: 个 | F19: 1 | H19: =F19*G19 -> 0
A20: 13 | B20: 风口 | C20: 中境 | D20: 1.名称：防雨防虫百叶(带防虫网) 2.规格：500*400 3.其他：铝合金材质 | E20: 个 | F20: 1 | H20: =F20*G20 -> 0
A21: 14 | B21: 原玻璃幕墙开孔及修复 | D21: 1.风管管线墙体开孔和修复及穿墙套管，并做防水处理 500*400的孔一个 | E21: 项 | F21: 1 | H21: =F21*G21 -> 0
A22: 15 | B22: 风口室外高空作业 | E22: 项 | F22: 1 | H22: =F22*G22 -> 0
A23: 16 | B23: 风机吊架 | C23: 国标 | D23: 1.设备吊架制作安装 2.风机吊架 3.基础类型：10#槽钢 | E23: 项 | F23: 1 | H23: =F23*G23 -> 0
A24: 17 | B24: 帆布软接 | C24: 国标 | D24: 设备与风管帆布软连接 | E24: m² | F24: 2 | H24: =F24*G24 -> 0
A25: 18 | B25: 支吊架 | C25: 国标 | D25: 丝杆、吊杆、角铁等 | E25: kg | F25: 10 | H25: =F25*G25 -> 0
A26: 19 | B26: 抗震支吊架 | C26: 国标 | D26: 抗震支吊架 | E26: 项 | F26: 1 | H26: =F26*G26 -> 0
A27: 20 | B27: 管路安装、工程机械费 、安装辅料 | C27: 国标 | D27: 1.辅料名称：木马、焊条 、胶水、螺栓、弯头、变径、氧气、乙 炔、油漆松香水、帆布软接等 2.机械费：电焊机、切割机、手电锤、 试压机、手磨机等 | E27: 项 | F27: 1 | H27: =F27*G27 -> 0
A28: 三、项目施工相关费用
A29: 1 | B29: 大型设备搬运安装 | D29: 1.风机和废气处理设备的吊装 | E29: 项 | F29: 1 | H29: =F29*G29 -> 0
A30: 2 | B30: 系统调试费 | D30: 1.排风系统单机调试和联动调试 | E30: 项 | F30: 1 | H30: =F30*G30 -> 0
A31: 3 | B31: 安全文明施工、脚手架等措施费 | E31: 项 | F31: 1 | H31: =F31*G31 -> 0
B32: 含税合计 | H32: =SUM(H5:H31) -> 0
A33: 注： | B33: 本预算为含税、含安装费、运输费。 不含施工用电用水费用。 在施工中有本预算未包括的分部分项项目，需双方代表就项目的增减进行签议。

Sheet 普通空调
A1: 分部分项工程量清单计价表
A2: 工程名称：大族数控化学实验室工程项目——普通空调
A3: 序号 | B3: 项目名称 | C3: 品牌 | D3: 规格、型号 | E3: 单位 | F3: 数量 | G3: 综合单价 （9%税率） | H3: 合计 | I3: 备注
A4: 一、空调设备
A5: 1 | B5: 卡式风机盘管（标配水泵 标配遥控器） | C5: 国产优质 | D5: 制冷量：7.2KW、制热量：13KW 输入功率：0.12KW | E5: 台 | F5: 1 | H5: =F5*G5 -> 0
A6: 二、空调材料
A7: 1 | B7: 冷冻水供.回水管 | D7: 1.材质:镀锌钢管 2.规格:DN25 3.连接形式:螺纹连接 | E7: 米 | F7: 18 | H7: =F7*G7 -> 0
A8: 2 | B8: 管道绝热 | C8: 华美 | D8: 1.名称：闭孔橡塑管壳安装 2.规格：φ32*25mm 3.难燃B1级 | E8: m | F8: 18 | H8: =F8*G8 -> 0
A9: 3 | B9: 不锈钢波纹管 | C9: 国产优质 | D9: 规格：DN25 材质：不锈钢 连接方式：螺纹连接 | E9: 个 | F9: 2 | H9: =F9*G9 -> 0
A10: 4 | B10: Y型过滤器 | C10: 国产优质 | D10: 名称：Y型过滤器 规格：DN20 材质：黄铜 公称压力：1.6MPa 连接方式：螺纹连接 | E10: 个 | F10: 1 | H10: =F10*G10 -> 0
A11: 5 | B11: 电动二通阀 | C11: 国产优质 | D11: 名称：电动二通阀 规格：DN20 材质：黄铜 连接方式：螺纹连接 | E11: 个 | F11: 1 | H11: =F11*G11 -> 0
A12: 6 | B12: 闸阀 | C12: 国产优质 | D12: 名称：闸阀 规格：DN20 材质：黄铜 连接方式：螺纹连接 | E12: 个 | F12: 2 | H12: =F12*G12 -> 0
A13: 7 | B13: 压力表 | C13: 国产优质 | D13: 最大量程:0-2.0Mpa,精度等级1.6配DN15截止阀 | E13: 套 | F13: 1 | H13: =F13*G13 -> 0
A14: 8 | B14: 温度计 | C14: 国产优质 | D14: 表盘式，温度范围为0 ~50C，精度等级1.0; | E14: 套 | F14: 1 | H14: =F14*G14 -> 0
A15: 9 | B15: 放气阀 | C15: 国产优质 | D15: 名称：自动排气阀 规格：DN20 材质：黄铜 连接方式：螺纹连接 | E15: 套 | F15: 1 | H15: =F15*G15 -> 0
A16: 10 | B16: 支架制作安装 | D16: 1.名称：空调室内机和冷冻水管支吊架 2.现场制安 | E16: 项 | F16: 1 | H16: =F16*G16 -> 0
A17: 11 | B17: 管路安装、工程机械费 、安装辅料 | C17: 国标 | D17: 1.辅料名称：木马、焊条 、胶水、螺栓、弯头、变径、氧气、乙 炔、油漆松香水、帆布软接等 2.机械费：电焊机、切割机、手电锤、 试压机、手磨机等 | E17: 项 | F17: 1 | H17: =F17*G17 -> 0
A18: 三、项目施工相关费用
A19: 1 | B19: 系统调试费 | D19: 1.原系统放水打压，测漏，再调试 | E19: 项 | F19: 1 | H19: =F19*G19 -> 0
A20: 2 | B20: 安全文明施工、脚手架等措施费 | E20: 项 | F20: 1 | H20: =F20*G20 -> 0
B21: 含税合计 | H21: =SUM(H5:H20) -> 0
A22: 注： | B22: 本预算为含税、含安装费、运输费。 不含施工用电用水费用。 在施工中有本预算未包括的分部分项项目，需双方代表就项目的增减进行签议。

Sheet 新风系统
A1: 分部分项工程量清单计价表
A2: 工程名称：大族数控化学实验室工程项目——新风工程
A3: 序号 | B3: 项目名称 | C3: 品牌 | D3: 规格、型号 | E3: 单位 | F3: 数量 | G3: 综合单价 （9%税率） | H3: 合计 | I3: 备注
A4: 一、新风设备
A5: 1 | B5: 全新风空调机组XF-01（全新风） | C5: 国祥/盾安 | D5: 室内机：1、新风段,送风量：2000m³/h，新风量：2000m³/h，新风比:100%；2、综合过滤段，板式粗效过滤器G4；3、表冷段，制冷量/制热量:30KW/20KW，5、风机段：风量：2500m³/h， 机外余压：200Pa，电机功率：2.2KW（由空调厂家复核）;6、均流段；4、出风段 | E5: 台 | F5: 1 | H5: =F5*G5 -> 0
A6: 二、新风材料
A7: 1 | B7: 静压箱JYX-203 | D7: 1.静压箱 2.规格：600*600*600 3.材质：镀锌材质 | E7: 个 | F7: 1 | H7: =F7*G7 -> 0
A8: 2 | B8: 通风管道 | C8: 国标 | D8: 1.名称：镀锌钢板风管 2.类型：矩形 3.板材厚度：δ=0.6mm | E8: m2 | F8: 55 | H8: =F8*G8 -> 0
A9: 3 | B9: 通风管道绝热 | C9: 华美 | D9: 1.采用橡塑复合隔热材料 2.厚度=30mm 3.其他：满足设计标准 | E9: m2 | F9: 55 | H9: =F9*G9 -> 0
A10: 4 | B10: 阀门 | C10: 中境 | D10: 1.名称：手动风量调节阀 2.规格：400*250 3.材质：镀锌钢板 | E10: 个 | F10: 1 | H10: =F10*G10 -> 0
A11: 5 | B11: 阀门 | C11: 中境 | D11: 1.名称：电动风阀（开关量） 2.规格：500*320 3.材质：镀锌钢板 | E11: 个 | F11: 1 | H11: =F11*G11 -> 0
A12: 6 | B12: 风口 | C12: 中境 | D12: 1.名称：防雨防虫百叶(带防虫网) 2.规格：1540*1200 3.其他：铝合金材质 | E12: 个 | F12: 1 | H12: =F12*G12 -> 0
A13: 7 | B13: 风口 | C13: 中境 | D13: 1.名称：送风散流器 2.规格：400*400 3.其他：ABS材质 | E13: 个 | F13: 2 | H13: =F13*G13 -> 0
A14: 8 | B14: 原玻璃幕墙开孔及修复 | D14: 1.风管管线墙体开孔和修复及穿墙套管，并做防水处理 1540*1200的孔一个 | E14: 项 | F14: 1 | H14: =F14*G14 -> 0
A15: 9 | B15: 风口室外高空作业 | E15: 项 | F15: 1 | H15: =F15*G15 -> 0
A16: 10 | B16: 风机吊架 | C16: 国标 | D16: 1.设备吊架制作安装 2.风机吊架 3.基础类型：10#槽钢 | E16: 项 | F16: 1 | H16: =F16*G16 -> 0
A17: 11 | B17: 帆布软接 | C17: 国标 | D17: 设备与风管帆布软连接 | E17: m² | F17: 2 | H17: =F17*G17 -> 0
A18: 12 | B18: 支吊架 | C18: 国标 | D18: 丝杆、吊杆、角铁等 | E18: kg | F18: 10 | H18: =F18*G18 -> 0
A19: 13 | B19: 抗震支吊架 | C19: 国标 | D19: 抗震支吊架 | E19: 项 | F19: 1 | H19: =F19*G19 -> 0
A20: 14 | B20: 管路安装、工程机械费 、安装辅料 | C20: 国标 | D20: 1.辅料名称：木马、焊条 、胶水、螺栓、弯头、变径、氧气、乙 炔、油漆松香水、帆布软接等 2.机械费：电焊机、切割机、手电锤、 试压机、手磨机等 | E20: 项 | F20: 1 | H20: =F20*G20 -> 0
A21: 三、项目施工相关费用
A22: 1 | B22: 大型设备搬运安装 | D22: 1.风机设备的吊装 | E22: 项 | F22: 1 | H22: =F22*G22 -> 0
A23: 2 | B23: 系统调试费 | D23: 1.新风系统单机调试和联动调试 | E23: 项 | F23: 1 | H23: =F23*G23 -> 0
A24: 3 | B24: 安全文明施工、脚手架等措施费 | E24: 项 | F24: 1 | H24: =F24*G24 -> 0
B25: 含税合计 | H25: =SUM(H5:H24) -> 0
A26: 注： | B26: 本预算为含税、含安装费、运输费。 不含施工用电用水费用。 在施工中有本预算未包括的分部分项项目，需双方代表就项目的增减进行签议。

Sheet 自控工程
A1: 分部分项工程量清单计价表
A2: 工程名称：大族数控化学实验室工程项目——自控工程
A3: 序号 | B3: 项目名称 | C3: 品牌 | D3: 规格、型号 | E3: 单位 | F3: 数量 | G3: 综合单价 （9%税率） | H3: 合计 | I3: 备注
A4: 1 | B4: 变频器-西门子变频器 | C4: Siemens | D4: 1、品牌：Siemens；2、功率：380V 2.2KW ；3、其它： 防护等级IP20；内置BOP操作面板。 | E4: 台 | F4: 1 | H4: =F4*G4 -> 0
A5: 2 | B5: 送风机组控制-工频风机启停控制回路 | C5: 正泰 | D5: 1、功能：风机启停控制回路 2、功率：380V，2.2KW以下；3、品牌：正泰 | E5: 台 | F5: 1 | H5: =F5*G5 -> 0
A6: 3 | B6: 传感器-管道压差传感器 | C6: SCSLAB | D6: 1、品牌SCSLAB/昕展；2、型号：SCS-M10,电源24VDC；3、输出信号4~20ma；4、压力范围：0~1250PA；5、适用于管道压力控制。 | E6: 个 | F6: 1 | H6: =F6*G6 -> 0
A7: 4 | B7: 排风机组控制-散热风扇联动控制回路 | C7: 正泰 | D7: 1、功能：排风机启动，排风机散热风扇联动启动 ； 2、功率：380V 1.1KW；3、品牌：正泰 | E7: 套 | F7: 1 | H7: =F7*G7 -> 0
A8: 5 | B8: 传感器-管道温湿度传感器 | C8: SCSLAB | D8: 1、功能：管道温湿度检测 2、量程：0…95 %RH，-40…60°C（量程可选）。湿度精度3%，温度精度±0.3℃。3、输出：4~20mA；4、品牌：昕展/SCSlab | E8: 套 | F8: 1 | H8: =F8*G8 -> 0
A9: 6 | B9: 送风机组控制-阀门信号采集 | D9: 比例二通阀/三通阀系统对接。 | E9: 套 | F9: 1 | H9: =F9*G9 -> 0
A10: 7 | B10: 排风机组控制-PLC可编程控制器 | C10: Siemens | D10: 1、SIEMENS PLC S7-200；2、标准型CPU模块，继电器输出，220 V AC 供电，12 输入/8 输出；3、可扩展模块；4、通讯：窜行端口1个RS485、TCP/IP 端口。5、适用于集中监控。 | E10: 个 | F10: 1 | H10: =F10*G10 -> 0
A11: 8 | B11: 送风机组控制-模拟量I/O点位 | D11: 1、其他:扩展模块，含AI/AO模拟量量输入输出点。按点位计算。含软件及编程。2、功能：采集模拟量温湿度传感器信号，反馈比例阀角度等。 | E11: 套 | F11: 2 | H11: =F11*G11 -> 0
A12: 9 | B12: 触摸屏-触摸屏（HMI) | C12: Siemens | D12: 1、品牌：SIEMENS/西门子；2、电源24VDC；3、7寸HMI；4、800x400（7寸）高分辨率，64K色，LED背光；5、集成以太网口可与S7-200系列PLC；6、支持Modbus RTU 协议 | E12: 台 | F12: 1 | H12: =F12*G12 -> 0
A13: 10 | B13: 排风机组控制-监控软件及编程 | C13: Siemens | D13: 1、软件：SIEMENS S7-200 SMART编程组态软件；2、功能：送排风机系统末端排风点运行状态、风机运行状态、喷淋塔环保设备等；风机运行频率参数设置等。 | E13: 项 | F13: 1 | H13: =F13*G13 -> 0
A14: 11 | B14: 送风机组控制-送风机组控制柜及元器件 | C14: 正泰 | D14: 1、型号：柜体尺寸据实；2、室内落地安装；3、符合低压配电规范；4、正泰电器元件；5、按机组数量计算。 | E14: 套 | F14: 1 | H14: =F14*G14 -> 0
A15: 12 | B15: 排风机组控制-阀门信号采集 | D15: 排风电动风阀系统对接。 | E15: 套 | F15: 2 | H15: =F15*G15 -> 0
A16: 13 | B16: 排风阀控制-控制面板DV-08D（通风柜） | D16: AC220V,DV-08D,LED显示，角度调节、照明开关、紧急排风、延时排风等功能。无源通讯。分体式主控器+面板。开孔尺寸：141*61 | E16: 个 | F16: 1 | H16: =F16*G16 -> 0
A17: 14 | B17: 排风阀控制-智能风阀控制器（罩） | D17: 1、型号：DV-A02,AC220V，2、功能：可设置电动风阀任意角度，并具备记忆功能，可外接翘板开关联动风机风阀控制。 3、通讯方式：无源风机启停或RS485通讯。 | E17: 个 | F17: 1 | H17: =F17*G17 -> 0
A18: 15 | B18: 排风阀控制-控制面板（罩） | D18: 1、型号：DV-A01-LED2、功能:风阀角度调节，带记忆功能，紧急排风。3、明装，配86底盒 | E18: 个 | F18: 1 | H18: =F18*G18 -> 0
A19: 16 | B19: 排风阀控制-面板开关 | D19: 1、名称：86型开关面板，含底盒；2、功能：风阀、风机启停开关按钮；3、安装：墙壁暗装。 | E19: 个 | F19: 1 | H19: =F19*G19 -> 0
A20: 17 | B20: 控制布线-电线电缆 | D20: RVVP4*1.0mm2 | E20: 米 | F20: 100 | H20: =F20*G20 -> 0
A21: 18 | B21: 控制布线-电线电缆 | D21: RVV3*1.0mm2 | E21: 米 | F21: 200 | H21: =F21*G21 -> 0
A22: 19 | B22: 控制布线-电线电缆 | D22: 超五类网线 | E22: 米 | F22: 50 | H22: =F22*G22 -> 0
A23: 20 | B23: 控制布线-PVC线管 | D23: DN20 | E23: 米 | F23: 200 | H23: =F23*G23 -> 0
A24: 21 | B24: 控制布线-控制柜接线 | D24: 1、功能：按图施工,按变频器计算 2、规格：控制柜端子排接线，含弱电控制线部分。 | E24: 项 | F24: 1 | H24: =F24*G24 -> 0
A25: 22 | B25: 控制布线-传感器安装接线 | D25: 1、名称：安装接线;2、规格：传感器、压差开关安装接线;3、数量按传感器点位计； | E25: 项 | F25: 2 | H25: =F25*G25 -> 0
A26: 23 | B26: 控制布线-控制器安装接线 | D26: 1、名称：安装接线;2、规格：控制器、风阀、电源安装接线;3、数量按风阀点位计； | E26: 项 | F26: 2 | H26: =F26*G26 -> 0
A27: 24 | B27: 系统调试费 | D27: 1、不含全部控制柜、传感器、控制器、阀门等其他控制设备的现场安装及现场接线；2、现场布线应有清晰的标线标识，不含校线，现场不能接错线。 | E27: 个 | F27: 1 | H27: =F27*G27 -> 0
B28: 含税合计 | H28: =SUM(H4:H27) -> 0
A29: 注： | B29: 本预算为含税、含安装费、运输费。 不含施工用电用水费用。 在施工中有本预算未包括的分部分项项目，需双方代表就项目的增减进行签议。

Sheet 强弱电
A1: 分部分项工程量清单计价表
A2: 工程名称：大族数控化学实验室工程项目——强弱电
A3: 序号 | B3: 项目名称 | C3: 品牌 | D3: 规格、型号 | E3: 单位 | F3: 数量 | G3: 综合单价 （9%税率） | H3: 合计 | I3: 备注
A4: 一、配电系统
A5: =ROW(A5)-ROW($A$4) -> 1 | B5: 配电箱 | D5: 1.名称:AP1 2.规格:按设计 3.安装方式:悬挂式 4.含图示所有元器件 5.未尽事宜，详见图纸、招标文件及相关规范 | E5: 台 | F5: 1 | H5: =F5*G5 -> 0
A6: =ROW(A6)-ROW($A$4) -> 2 | B6: 小型开关箱 | D6: 1.名称:小型开关箱 2.规格:按设计 3.安装方式:悬挂式 4.含图示所有元器件 5.未尽事宜，详见图纸、招标文件及相关规范 | E6: 台 | F6: 1 | H6: =F6*G6 -> 0
A7: 二、开关灯具、插座
A8: =ROW(A8)-ROW($A$7) -> 1 | B8: LED平板灯 | D8: 300x300，18W LED光源 | E8: 套 | F8: 1 | H8: =F8*G8 -> 0
A9: =ROW(A9)-ROW($A$7) -> 2 | B9: LED平板灯 | D9: 600x600，35W LED光源 | E9: 套 | F9: 4 | H9: =F9*G9 -> 0
A10: =ROW(A10)-ROW($A$7) -> 3 | B10: 单联单控开关 | D10: 10A/220V | E10: 个 | F10: 1 | H10: =F10*G10 -> 0
A11: =ROW(A11)-ROW($A$7) -> 4 | B11: 双联单控开关 | D11: 10A/220V | E11: 个 | F11: 1 | H11: =F11*G11 -> 0
A12: =ROW(A12)-ROW($A$7) -> 5 | B12: 单相二三极插座 | D12: 10A/220V | E12: 个 | F12: 35 | H12: =F12*G12 -> 0
A13: =ROW(A13)-ROW($A$7) -> 6 | B13: 防水单相二、三极安全型插座（IP65） | D13: 10A/220V | E13: 个 | F13: 2 | H13: =F13*G13 -> 0
A14: =ROW(A14)-ROW($A$7) -> 7 | B14: 预留电源出线盒 | D14: 220V/86式 | E14: 个 | F14: 1 | H14: =F14*G14 -> 0
A15: =ROW(A15)-ROW($A$7) -> 8 | B15: 温度控制面板 | D15: 10A/220V | E15: 个 | F15: 1 | H15: =F15*G15 -> 0
A16: 三、强电布线、等电位接地系统
A17: =ROW(A17)-ROW($A$16) -> 1 | B17: 电力电缆 | D17: WDZB-YJY-5X16 | E17: m | F17: 50 | H17: =F17*G17 -> 0
A18: =ROW(A18)-ROW($A$16) -> 2 | B18: 绝缘电线 | D18: WDZ-BYJ-6m㎡ | E18: m | F18: 180 | H18: =F18*G18 -> 0
A19: =ROW(A19)-ROW($A$16) -> 3 | B19: 绝缘电线 | D19: WDZ-BYJ-4m㎡ | E19: m | F19: 400 | H19: =F19*G19 -> 0
A20: =ROW(A20)-ROW($A$16) -> 4 | B20: 绝缘电线 | D20: WDZ-BYJ-2.5m㎡ | E20: m | F20: 50 | H20: =F20*G20 -> 0
A21: =ROW(A21)-ROW($A$16) -> 5 | B21: 信号线 | D21: WDZB-RYYP-7X1.0 | E21: m | F21: 10 | H21: =F21*G21 -> 0
A22: =ROW(A22)-ROW($A$16) -> 6 | B22: 电气配管 | D22: JDG40 | E22: m | F22: 50 | H22: =F22*G22 -> 0
A23: =ROW(A23)-ROW($A$16) -> 7 | B23: 电气配管 | D23: JDG32 | E23: m | F23: 60 | H23: =F23*G23 -> 0
A24: =ROW(A24)-ROW($A$16) -> 8 | B24: 电气配管 | D24: JDG25 | E24: m | F24: 130 | H24: =F24*G24 -> 0
A25: =ROW(A25)-ROW($A$16) -> 9 | B25: 接线盒 | E25: 个 | F25: 50 | H25: =F25*G25 -> 0
A26: =ROW(A26)-ROW($A$16) -> 10 | B26: 线槽、线管支架 | E26: kg | F26: 30 | H26: =F26*G26 -> 0
A27: =ROW(A27)-ROW($A$16) -> 11 | B27: 强电安装辅材及耗材 | D27: 角铁、槽钢、丝杆、顶爆、拉爆、防锈漆、螺丝、角码、钩码、垫片、护套、连接线、线鼻、号码管、焊条、开孔器、焊锡等安装辅材及耗材 | E27: 项 | F27: 1 | H27: =F27*G27 -> 0
A28: =ROW(A28)-ROW($A$16) -> 12 | B28: 送配电装置系统 | E28: 项 | F28: 1 | H28: =F28*G28 -> 0
A29: 四、消防
A30: 1 | B30: 喷淋 | D30: DN25管 | E30: 个 | F30: 5 | I30: 喷淋管道延长到新的房间，材料费用
A31: 2 | B31: 烟感 | E31: 个 | F31: 2 | I31: 材料费用
A32: 3 | B32: 人工 | I32: 改喷淋和烟感的人工费用
A33: 五、监控、网络
A34: 1 | B34: 摄像头 | C34: 大华 | D34: 400万像素 | E34: 个 | F34: 4 | I34: 接入现在的监控系统，在现有的监控系统上显示，材料、支架费用
A35: 2 | B35: 网线 | C35: 山泽 | D35: 6类网线 | E35: 米 | F35: 400 | I35: 材料费用
A36: 3 | B36: 网络端口 | E36: 个 | F36: 4 | I36: 面板和模块，材料费用
A37: 4 | B37: 线管 | C37: 联塑 | D37: DN25管 | E37: 米 | F37: 100 | I37: 联塑品牌，材料费用
A38: 5 | B38: 交换机 | E38: 个 | F38: 2 | I38: 按现场实际情况，距离超的时候使用，材料费用
A39: 6 | B39: 人工 | E39: 项 | F39: 1 | I39: 人工费用
A40: 六、项目施工相关费用
...
